{
 "currentVersion": 10.7,
 "serviceDescription": "2_Imagem/2020",
 "name": "2_Imagem/2020",
 "description": "",
 "extent": {
  "xmin": 476391.4609421242,
  "ymin": 9993563.61468014,
  "xmax": 498857.7609421242,
  "ymax": 1.001435691468014E7,
  "spatialReference": {
   "wkid": 31982,
   "latestWkid": 31982
  }
 },
 "initialExtent": {
  "xmin": 476391.4609421242,
  "ymin": 9993563.61468014,
  "xmax": 498857.7609421242,
  "ymax": 1.001435691468014E7,
  "spatialReference": {
   "wkid": 31982,
   "latestWkid": 31982
  }
 },
 "fullExtent": {
  "xmin": 476391.4609421242,
  "ymin": 9993563.61468014,
  "xmax": 498857.7609421242,
  "ymax": 1.001435691468014E7,
  "spatialReference": {
   "wkid": 31982,
   "latestWkid": 31982
  }
 },
 "pixelSizeX": 0.09999999999999995,
 "pixelSizeY": 0.10000000000000359,
 "bandCount": 3,
 "pixelType": "S16",
 "minPixelSize": 0,
 "maxPixelSize": 0,
 "copyrightText": "",
 "serviceDataType": "esriImageServiceDataTypeGeneric",
 "minValues": [
  0,
  0,
  0
 ],
 "maxValues": [
  255,
  255,
  255
 ],
 "meanValues": [
  127.08586764016,
  123.53509711583,
  107.1427907719
 ],
 "stdvValues": [
  37.476196819497,
  34.379331414067,
  32.495166899121
 ],
 "objectIdField": "",
 "fields": [],
 "capabilities": "Image,Metadata,Mensuration",
 "defaultMosaicMethod": "Center",
 "allowedMosaicMethods": "",
 "sortField": "",
 "sortValue": null,
 "mosaicOperator": "First",
 "defaultCompressionQuality": 75,
 "defaultResamplingMethod": "Bilinear",
 "maxImageHeight": 4100,
 "maxImageWidth": 15000,
 "allowRasterFunction": true,
 "rasterFunctionInfos": [
  {
   "name": "None",
   "description": "",
   "help": ""
  }
 ],
 "rasterTypeInfos": [
  {
   "name": "Raster Dataset",
   "description": "Supports all ArcGIS Raster Datasets",
   "help": ""
  }
 ],
 "mensurationCapabilities": "Basic",
 "hasHistograms": true,
 "hasColormap": false,
 "hasRasterAttributeTable": false,
 "minScale": 0,
 "maxScale": 0,
 "exportTilesAllowed": false,
 "hasMultidimensions": false,
 "supportsStatistics": false,
 "supportsAdvancedQueries": false,
 "editFieldsInfo": null,
 "ownershipBasedAccessControlForRasters": null,
 "allowComputeTiePoints": false,
 "useStandardizedQueries": true,
 "advancedQueryCapabilities": {
  "useStandardizedQueries": true,
  "supportsStatistics": false,
  "supportsOrderBy": false,
  "supportsDistinct": false,
  "supportsPagination": false
 },
 "spatialReference": {
  "wkid": 31982,
  "latestWkid": 31982
 }
}
