View In:
ArcGIS JavaScript
ArcGIS Online Map Viewer
ArcGIS Earth
ArcMap
View Footprint In:
ArcGIS Online Map Viewer
Service Description: 2_Imagem/2020
Name: 2_Imagem/2020
Description:
Single Fused Map Cache: false
Extent:
XMin: 476391.4609421242
YMin: 9993563.61468014
XMax: 498857.7609421242
YMax: 1.001435691468014E7
Spatial Reference: 31982
(31982)
Initial Extent:
XMin: 476391.4609421242
YMin: 9993563.61468014
XMax: 498857.7609421242
YMax: 1.001435691468014E7
Spatial Reference: 31982
(31982)
Full Extent:
XMin: 476391.4609421242
YMin: 9993563.61468014
XMax: 498857.7609421242
YMax: 1.001435691468014E7
Spatial Reference: 31982
(31982)
Pixel Size X: 0.09999999999999995
Pixel Size Y: 0.10000000000000359
Band Count: 3
Pixel Type: S16
RasterFunction Infos: {"rasterFunctionInfos": [{
"name": "None",
"description": "",
"help": ""
}]}
Mensuration Capabilities: Basic
Has Histograms: true
Has Colormap: false
Has Multi Dimensions : false
Rendering Rule:
Min Scale: 0
Max Scale: 0
Copyright Text:
Service Data Type: esriImageServiceDataTypeGeneric
Min Values: 0, 0, 0
Max Values: 255, 255, 255
Mean Values: 127.08586764016, 123.53509711583, 107.1427907719
Standard Deviation Values: 37.476196819497, 34.379331414067, 32.495166899121
Object ID Field:
Fields:
None
Default Mosaic Method: Center
Allowed Mosaic Methods:
SortField:
SortValue: null
Mosaic Operator: First
Default Compression Quality: 75
Default Resampling Method: Bilinear
Max Record Count: null
Max Image Height: 4100
Max Image Width: 15000
Max Download Image Count: null
Max Mosaic Image Count: null
Allow Raster Function: true
Allow Compute TiePoints: false
Supports Statistics: false
Supports Advanced Queries: false
Use StandardizedQueries: true
Raster Type Infos:
Name: Raster Dataset
Description: Supports all ArcGIS Raster Datasets
Help:
Has Raster Attribute Table: false
Edit Fields Info: null
Ownership Based AccessControl For Rasters: null
Child Resources:
Info
Histograms
Key Properties
Legend
MultiDimensionalInfo
rasterFunctionInfos
Supported Operations:
Export Image
Identify
Measure
Compute Histograms
Compute Statistics Histograms
Get Samples
Compute Class Statistics
Query Boundary
Compute Pixel Location